Workbook

Sheet Proponent Information
B1: Nova Scotia Green Choice Program Procurement | H1: GCP_PFPWv1.0.xlsx
B3: GCP RFP II Proposal Workbook - Proponent Information Worksheet (Mandatory)
B4: Instructions:
B5: (i) All green fields should be completed. If an item is not applicable please indicate "N/A" in the associated field.
B6: (ii) Proponents are encouraged to complete items in order as some items may depend on inputs from earlier items
B7: (iii) Row heights can be resized if more space is required to view input text.
W8: corporation
W9: limited partnership
B10: Item | C10: Project ID and Name | G10: Proponent Information | W10: other
B11: 1 | C11: Unique Project ID:
B12: 2 | C12: Name of Renewable Low-Impact Electricity Project:
B14: Item | C14: Proponent Information
B15: =B12+1 -> 3 | C15: Legal name of Proponent
B16: =B15+1 -> 4 | C16: Proponent entity type (e.g. corporation, limited partnership): <select from dropdown>
B17: =B16+1 -> 5 | C17: Proponent entity type if "other" (if applicable):
B18: =B17+1 -> 6 | C18: Proponent is formed/incorporated under the laws of: <enter jurisdiction>
B19: =B18+1 -> 7 | C19: Name of general partner if limited partnership (if applicable):
B20: =B19+1 -> 8 | C20: General partner is formed/incorporated under the laws of (if applicable): <enter jurisdiction>
B21: =B20+1 -> 9 | C21: List of Person(s) that Control the Proponent and Person(s) that the Proponent Controls (if a company is publicly traded company, include the name of the exchange):
B22: =B21+1 -> 10 | C22: Name of Proponent's Ultimate Controlling Parent(s):
B23: =B22+1 -> 11 | C23: Proponent's registry ID number with Nova Scotia's Registry of Joint Stock Companies:
B25: Item | C25: Contact Information
B26: =B23+1 -> 12 | C26: Primary Contact name:
B27: =B26+1 -> 13 | C27: Primary Contact title:
B28: =B27+1 -> 14 | C28: Primary Contact mailing address:
B29: =B28+1 -> 15 | C29: Primary Contact phone number:
B30: =B29+1 -> 16 | C30: Primary Contact email address:
B31: =B30+1 -> 17 | C31: Secondary Contact name:
B32: =B31+1 -> 18 | C32: Secondary Contact title:
B33: =B32+1 -> 19 | C33: Secondary Contact mailing address:
B34: =B33+1 -> 20 | C34: Secondary Contact phone number:
B35: =B34+1 -> 21 | C35: Secondary Contact email address:
B36: =B35+1 -> 22 | C36: Proponent mailing address:
B37: =B36+1 -> 23 | C37: Proponent phone number <if available>:
B38: =B37+1 -> 24 | C38: Proponent email address <if available>:
... B40: =B39+1 -> 26 | C40: Renewable Low-Impact Electricity Project Website URL:

Sheet Project Information
B1: ='Proponent Information'!$B$1 -> Nova Scotia Green Choice Program Procurement | H1: ='Proponent Information'!$H$1 -> GCP_PFPWv1.0.xlsx
B3: GCP RFP II Proposal Workbook - Project Information Worksheet (Mandatory)
B4: Instructions:
B5: (i) All green fields should be completed. If an item is not applicable please indicate "N/A" in the associated field.
B6: (ii) Proponents are encouraged to complete items in order as some items may depend on inputs from earlier items
B7: (iii) Where numeric values are instructed to be to 2 decimal places, values will be rounded to 2 decimal places
B8: (iii) Row heights can be resized if more space is required to view input text.
B11: Item | C11: Project ID and Name | G11: Proponent Information
B12: 1 | C12: Unique Project ID: | G12: =IF('Proponent Information'!$G$11="","",'Proponent Information'!$G$11)
B13: 2 | C13: Name of Renewable Low-Impact Electricity Project: | G13: =IF('Proponent Information'!$G$12="","",'Proponent Information'!$G$12)
B15: Item | C15: General Project Information
B16: ='Proponent Information'!B40+1 -> 27 | C16: Interconnection Request number:
B17: =B16+1 -> 28 | C17: Nameplate Capacity submitted in Interconnection Request: <enter value to two decimal places>
B18: =B17+1 -> 29 | C18: Transmission Zone (based on Point of Interconnection):
B19: =B18+1 -> 30 | C19: Project is a New Build or Expansion: <select from dropdown>
B20: =B19+1 -> 31 | C20: Project uses onshore wind as the Energy Source: <select "Yes" from dropdown to confirm>
B21: =B20+1 -> 32 | C21: Municipal address (including street number, street name, postal code and other applicable information related to the address) of Project Site:
B22: =B21+1 -> 33 | C22: Census division(s) location of the Project Site: <enter census division(s) where the Project Site is located>
B23: =B22+1 -> 34 | C23: Municipality(ies) (regional, county, or district) or town(s) of the Project Site: <enter closest municipality(ies) or town(s)>
B24: =B23+1 -> 35 | C24: GPS latitude coordinate of the Project Site (e.g. ##.######): <GPS coordinates should be provided in degree decimals at the approximate center of the Facility>
B25: =B24+1 -> 36 | C25: GPS longitude coordinate of the Project Site (e.g. ##.######): <GPS coordinates should be provided in degree decimals at the approximate center of the Facility>
B26: =B25+1 -> 37 | C26: Overview of Facility: <provide a brief summary of the the Project>:
B27: =B26+1 -> 38 | C27: Project Site description: <include details such as size of the project site, zoning of land, and note differences, if any, between the Project Site for the Primary Primary Project Configuration and the Alternate Project Configuration)>
B28: =B27+1 -> 39 | C28: Facility design: <provide a high level design overview of the Facility and note differences, if any, between the Facility design for the Primary Primary Project Configuration and the Alternate Project Configuration>
... B31: =B30+1 -> 42 | C31: Proponent is submitting an Alternate Project Configuration as part of the Proposal: <select Yes or No from dropdown>
B33: Project Configuration Information | F33: Item | G33: Primary Project Configuration Information | K33: Item | L33: Alternate Project Configuration Information
A34: =B31+1 -> 43 | B34: Nameplate Capacity (MW): <enter value to two decimal places> | F34: =IF($G$31="Yes", $A34 &"a",$A34) -> 43 | K34: =IF($G$31="Yes", $A34 &"b","")
A35: =A34+1 -> 44 | B35: Energy Rate ($/MWh): <enter value to two decimal places> | F35: =IF($G$31="Yes", $A35 &"a",$A35) -> 44 | K35: =IF($G$31="Yes", $A35 &"b","")
A36: =A35+1 -> 45 | B36: Energy Bid (MWh): <enter value to two decimal places> | F36: =IF($G$31="Yes", $A36 &"a",$A36) -> 45 | K36: =IF($G$31="Yes", $A36 &"b","")
A37: =A36+1 -> 46 | B37: Scheduled COD (must be on or before December 31, 2030): <enter date yyyy-mm-dd> | F37: =IF($G$31="Yes", $A37 &"a",$A37) -> 46 | K37: =IF($G$31="Yes", $A37 &"b","")
A38: =A37+1 -> 47 | B38: Estimated Project operating and maintenance costs over the term of the PPA($): | F38: =IF($G$31="Yes", $A38 &"a",$A38) -> 47 | K38: =IF($G$31="Yes", $A38 &"b","")
A39: =A38+1 -> 48 | B39: Estimated Project full-time equivalent (FTE) employees: <enter estimated Project FTEs for pre-COD / post-COD> | F39: =IF($G$31="Yes", $A39 &"a",$A39) -> 48 | K39: =IF($G$31="Yes", $A39 &"b","")
A40: =A39+1 -> 49 | B40: Details of Interconnection (including type of connection, Point of Interconnection, connection voltage, relative location of connection on the Project Site, and description of work required to connect the Facility): | F40: =IF($G$31="Yes", $A40 &"a",$A40) -> 49 | K40: =IF($G$31="Yes", $A40 &"b","")
A109: Zone 1 | B109: New Build | C109: Yes | D109: Annapolis
A110: Zone 2 | B110: Expansion | C110: No | D110: Antigonish
A111: Zone 3 | D111: Cape Breton
D112: Colchester
D113: Cumberland
D114: Digby
D115: Guysborough
D116: Halifax
D117: Hants
D118: Inverness
D119: Kings
D120: Lunenburg
D121: Pictou
D122: Queens
D123: Richmond
... D126: Yarmouth

Sheet Team Member Experience
B1: ='Proponent Information'!$B$1 -> Nova Scotia Green Choice Program Procurement | H1: ='Proponent Information'!$H$1 -> GCP_PFPWv1.0.xlsx
B3: GCP RFP II Proposal Workbook - Team Member Experience Worksheet (Mandatory)
B4: Instructions:
B5: (i) All green fields should be completed. If an item is not applicable please indicate "N/A" in the associated field
B6: (ii) Row heights can be resized if more space is required to view input text.
B8: Item | C8: Project ID and Name | G8: Proponent Information
B9: 1 | C9: Unique Project ID: | G9: =IF('Proponent Information'!$G$11="","",'Proponent Information'!$G$11)
B10: 2 | C10: Name of Renewable Low-Impact Electricity Project: | G10: =IF('Proponent Information'!$G$12="","",'Proponent Information'!$G$12)
B12: Item | C12: Planning - Designated Team Member 1
B13: ='Project Information'!A40+1 -> 50 | C13: Experience Category: | G13: Planning
B14: =B13+1 -> 51 | C14: Name of Designated Team Member:
B15: =B14+1 -> 52 | C15: Title of Designated Team Member with regard to the Proponent:
B16: =B15+1 -> 53 | C16: Designated Team Member email / phone number:
B17: =B16+1 -> 54 | C17: Name of Qualifying Renewable Low-Impact Electricity Generation Facility:
B18: =B17+1 -> 55 | C18: Nameplate Capacity(MW) of Qualifying Renewable Low-Impact Electricity Generation Facility <enter to the nearest MW>:
B19: =B18+1 -> 56 | C19: Location of Qualifying Renewable Low-Impact Electricity Generation Facility:
B20: =B19+1 -> 57 | C20: Technology type of Qualifying Renewable Low-Impact Electricity Generation Facility:
B21: =B20+1 -> 58 | C21: Commercial Operation Date of Qualifying Renewable Low-Impact Electricity Generation Facility: <enter date yyyy-mm-dd>
B22: Item | C22: Planning - Designated Team Member 2
B23: =B21+1 -> 59 | C23: =$C$13 -> Experience Category: | G23: =G13 -> Planning
B24: =B23+1 -> 60 | C24: =$C$14 -> Name of Designated Team Member:
B25: =B24+1 -> 61 | C25: =$C$15 -> Title of Designated Team Member with regard to the Proponent:
B26: =B25+1 -> 62 | C26: =$C$16 -> Designated Team Member email / phone number:
B27: =B26+1 -> 63 | C27: =$C$17 -> Name of Qualifying Renewable Low-Impact Electricity Generation Facility:
B28: =B27+1 -> 64 | C28: =$C$18 -> Nameplate Capacity(MW) of Qualifying Renewable Low-Impact Electricity Generation Facility <enter to the nearest MW>:
B29: =B28+1 -> 65 | C29: =$C$19 -> Location of Qualifying Renewable Low-Impact Electricity Generation Facility:
B30: =B29+1 -> 66 | C30: =$C$20 -> Technology type of Qualifying Renewable Low-Impact Electricity Generation Facility:
B31: =B30+1 -> 67 | C31: =$C$21 -> Commercial Operation Date of Qualifying Renewable Low-Impact Electricity Generation Facility: <enter date yyyy-mm-dd>
B32: Item | C32: Developing - Designated Team Member 1
B33: =B31+1 -> 68 | C33: =$C$13 -> Experience Category: | G33: Developing
B34: =B33+1 -> 69 | C34: =$C$14 -> Name of Designated Team Member:
B35: =B34+1 -> 70 | C35: =$C$15 -> Title of Designated Team Member with regard to the Proponent:
B36: =B35+1 -> 71 | C36: =$C$16 -> Designated Team Member email / phone number:
B37: =B36+1 -> 72 | C37: =$C$17 -> Name of Qualifying Renewable Low-Impact Electricity Generation Facility:
B38: =B37+1 -> 73 | C38: =$C$18 -> Nameplate Capacity(MW) of Qualifying Renewable Low-Impact Electricity Generation Facility <enter to the nearest MW>:
B39: =B38+1 -> 74 | C39: =$C$19 -> Location of Qualifying Renewable Low-Impact Electricity Generation Facility:
B40: =B39+1 -> 75 | C40: =$C$20 -> Technology type of Qualifying Renewable Low-Impact Electricity Generation Facility:
B41: =B40+1 -> 76 | C41: =$C$21 -> Commercial Operation Date of Qualifying Renewable Low-Impact Electricity Generation Facility: <enter date yyyy-mm-dd>
B42: Item | C42: Developing - Designated Team Member 2
B43: =B41+1 -> 77 | C43: =$C$13 -> Experience Category: | G43: =G33 -> Developing
B44: =B43+1 -> 78 | C44: =$C$14 -> Name of Designated Team Member:
B45: =B44+1 -> 79 | C45: =$C$15 -> Title of Designated Team Member with regard to the Proponent:
B46: =B45+1 -> 80 | C46: =$C$16 -> Designated Team Member email / phone number:
B47: =B46+1 -> 81 | C47: =$C$17 -> Name of Qualifying Renewable Low-Impact Electricity Generation Facility:
B48: =B47+1 -> 82 | C48: =$C$18 -> Nameplate Capacity(MW) of Qualifying Renewable Low-Impact Electricity Generation Facility <enter to the nearest MW>:
B49: =B48+1 -> 83 | C49: =$C$19 -> Location of Qualifying Renewable Low-Impact Electricity Generation Facility:
B50: =B49+1 -> 84 | C50: =$C$20 -> Technology type of Qualifying Renewable Low-Impact Electricity Generation Facility:
B51: =B50+1 -> 85 | C51: =$C$21 -> Commercial Operation Date of Qualifying Renewable Low-Impact Electricity Generation Facility: <enter date yyyy-mm-dd>
B52: Item | C52: Financing - Designated Team Member 1
B53: =B51+1 -> 86 | C53: =$C$13 -> Experience Category: | G53: Financing
B54: =B53+1 -> 87 | C54: =$C$14 -> Name of Designated Team Member:
B55: =B54+1 -> 88 | C55: =$C$15 -> Title of Designated Team Member with regard to the Proponent:
B56: =B55+1 -> 89 | C56: =$C$16 -> Designated Team Member email / phone number:
B57: =B56+1 -> 90 | C57: =$C$17 -> Name of Qualifying Renewable Low-Impact Electricity Generation Facility:
B58: =B57+1 -> 91 | C58: =$C$18 -> Nameplate Capacity(MW) of Qualifying Renewable Low-Impact Electricity Generation Facility <enter to the nearest MW>:
B59: =B58+1 -> 92 | C59: =$C$19 -> Location of Qualifying Renewable Low-Impact Electricity Generation Facility:
B60: =B59+1 -> 93 | C60: =$C$20 -> Technology type of Qualifying Renewable Low-Impact Electricity Generation Facility:
B61: =B60+1 -> 94 | C61: =$C$21 -> Commercial Operation Date of Qualifying Renewable Low-Impact Electricity Generation Facility: <enter date yyyy-mm-dd>
B62: Item | C62: Financing - Designated Team Member 2
B63: =B61+1 -> 95 | C63: =$C$13 -> Experience Category: | G63: =G53 -> Financing
B64: =B63+1 -> 96 | C64: =$C$14 -> Name of Designated Team Member:
B65: =B64+1 -> 97 | C65: =$C$15 -> Title of Designated Team Member with regard to the Proponent:
B66: =B65+1 -> 98 | C66: =$C$16 -> Designated Team Member email / phone number:
B67: =B66+1 -> 99 | C67: =$C$17 -> Name of Qualifying Renewable Low-Impact Electricity Generation Facility:
B68: =B67+1 -> 100 | C68: =$C$18 -> Nameplate Capacity(MW) of Qualifying Renewable Low-Impact Electricity Generation Facility <enter to the nearest MW>:
B69: =B68+1 -> 101 | C69: =$C$19 -> Location of Qualifying Renewable Low-Impact Electricity Generation Facility:
B70: =B69+1 -> 102 | C70: =$C$20 -> Technology type of Qualifying Renewable Low-Impact Electricity Generation Facility:
B71: =B70+1 -> 103 | C71: =$C$21 -> Commercial Operation Date of Qualifying Renewable Low-Impact Electricity Generation Facility: <enter date yyyy-mm-dd>
B72: Item | C72: Constructing - Designated Team Member 1
B73: =B71+1 -> 104 | C73: =$C$13 -> Experience Category: | G73: Constructing
B74: =B73+1 -> 105 | C74: =$C$14 -> Name of Designated Team Member:
B75: =B74+1 -> 106 | C75: =$C$15 -> Title of Designated Team Member with regard to the Proponent:
B76: =B75+1 -> 107 | C76: =$C$16 -> Designated Team Member email / phone number:
B77: =B76+1 -> 108 | C77: =$C$17 -> Name of Qualifying Renewable Low-Impact Electricity Generation Facility:
B78: =B77+1 -> 109 | C78: =$C$18 -> Nameplate Capacity(MW) of Qualifying Renewable Low-Impact Electricity Generation Facility <enter to the nearest MW>:
B79: =B78+1 -> 110 | C79: =$C$19 -> Location of Qualifying Renewable Low-Impact Electricity Generation Facility:
B80: =B79+1 -> 111 | C80: =$C$20 -> Technology type of Qualifying Renewable Low-Impact Electricity Generation Facility:
B81: =B80+1 -> 112 | C81: =$C$21 -> Commercial Operation Date of Qualifying Renewable Low-Impact Electricity Generation Facility: <enter date yyyy-mm-dd>
B82: Item | C82: Constructing - Designated Team Member 2
B83: =B81+1 -> 113 | C83: =$C$13 -> Experience Category: | G83: =G73 -> Constructing
B84: =B83+1 -> 114 | C84: =$C$14 -> Name of Designated Team Member:
B85: =B84+1 -> 115 | C85: =$C$15 -> Title of Designated Team Member with regard to the Proponent:
B86: =B85+1 -> 116 | C86: =$C$16 -> Designated Team Member email / phone number:
B87: =B86+1 -> 117 | C87: =$C$17 -> Name of Qualifying Renewable Low-Impact Electricity Generation Facility:
B88: =B87+1 -> 118 | C88: =$C$18 -> Nameplate Capacity(MW) of Qualifying Renewable Low-Impact Electricity Generation Facility <enter to the nearest MW>:
B89: =B88+1 -> 119 | C89: =$C$19 -> Location of Qualifying Renewable Low-Impact Electricity Generation Facility:
B90: =B89+1 -> 120 | C90: =$C$20 -> Technology type of Qualifying Renewable Low-Impact Electricity Generation Facility:
B91: =B90+1 -> 121 | C91: =$C$21 -> Commercial Operation Date of Qualifying Renewable Low-Impact Electricity Generation Facility: <enter date yyyy-mm-dd>
B92: Item | C92: Operating - Designated Team Member 1
B93: =B91+1 -> 122 | C93: =$C$13 -> Experience Category: | G93: Operating
B94: =B93+1 -> 123 | C94: =$C$14 -> Name of Designated Team Member:
B95: =B94+1 -> 124 | C95: =$C$15 -> Title of Designated Team Member with regard to the Proponent:
B96: =B95+1 -> 125 | C96: =$C$16 -> Designated Team Member email / phone number:
B97: =B96+1 -> 126 | C97: =$C$17 -> Name of Qualifying Renewable Low-Impact Electricity Generation Facility:
B98: =B97+1 -> 127 | C98: =$C$18 -> Nameplate Capacity(MW) of Qualifying Renewable Low-Impact Electricity Generation Facility <enter to the nearest MW>:
B99: =B98+1 -> 128 | C99: =$C$19 -> Location of Qualifying Renewable Low-Impact Electricity Generation Facility:
B100: =B99+1 -> 129 | C100: =$C$20 -> Technology type of Qualifying Renewable Low-Impact Electricity Generation Facility:
B101: =B100+1 -> 130 | C101: =$C$21 -> Commercial Operation Date of Qualifying Renewable Low-Impact Electricity Generation Facility: <enter date yyyy-mm-dd>
B102: Item | C102: Operating - Designated Team Member 2
B103: =B101+1 -> 131 | C103: =$C$13 -> Experience Category: | G103: =G93 -> Operating
...

Sheet Scored Team Member Experience
B1: ='Proponent Information'!$B$1 -> Nova Scotia Green Choice Program Procurement | H1: ='Proponent Information'!$H$1 -> GCP_PFPWv1.0.xlsx
B3: GCP RFP II Proposal Workbook - Scored Team Member Experience Worksheet (Optional)
B4: Instructions:
B5: (i) There are two (2) scored criteria related to Team Member Experience that a Proponent may apply for by completing all green fields in the relevant sections below. Note: green fields will only be activited if the Proponent indicates they are applying for the points associated with Items 138 and / or 139. | AJ5: Yes
B6: (ii) Row heights can be resized if more space is required to view input text. | AJ6: No
B8: Item | C8: Project ID and Name | G8: Proponent Information
B9: 1 | C9: Unique Project ID: | G9: =IF('Proponent Information'!$G$11="","",'Proponent Information'!$G$11)
B10: 2 | C10: Name of Renewable Low-Impact Electricity Project: | G10: =IF('Proponent Information'!$G$12="","",'Proponent Information'!$G$12)
B12: Item | C12: The Proponent is applying for Scored Criteria points for the following : <select Yes or No from each dropdown as applicable. If applying for both select Yes for both items> | M12: 50% of Project's Nameplate Capacity (MW)
B13: ='Team Member Experience'!B111+1 -> 140 | C13: Experience with at least three (3) Transmission-Connected onshore wind projects each of at least 50% of the proposed Project's Nameplate Capacity and have achieved commercial operation no more than fifteen (15) years prior to the Proposal Submission Deadline (3 points) | M13: =IF('Project Information'!$G$34*0.5 = 0, "",'Project Information'!$G$34*0.5)
B14: =B13+1 -> 141 | C14: Experience with respect to a Renewable Low-Impact Electricity Generation Facility that has achieved commercial operation in Nova Scotia no more than fifteen (15) years prior to the Proposal Submission Deadline.
B16: Scored Criteria 1: Experience with at least Transmission-Connected three (3) onshore wind projects each of at least 50% of the proposed Project's Nameplate Capacity and have achieved commercial operation no more than fifteen (15) years prior to the Proposal Submission Deadline. (3 points)
B17: Item | C17: Planning - Designated Team Member
B18: =B14+1 -> 142 | C18: Experience Category: | G18: Planning
B19: =B18+1 -> 143 | C19: Name of Designated Team Member:
B20: =B19+1 -> 144 | C20: Title of Designated Team Member with regard to the Proponent:
B21: =B20+1 -> 145 | C21: Designated Team Member email / phone number:
C22: Projects: | G22: Project #1 | K22: Project #2 | O22: Project #3
B23: =B21+1 -> 146 | C23: Name of onshore wind project:
B24: =B23+1 -> 147 | C24: Nameplate Capacity(MW) of onshore wind project: <enter to the nearest MW>
B25: =B24+1 -> 148 | C25: Location of onshore wind project:
B26: =B25+1 -> 149 | C26: Commercial Operation Date of onshore wind project: <enter date yyyy-mm-dd>
B27: Item | C27: Developing - Designated Team Member
B28: =B26+1 -> 150 | C28: =$C$18 -> Experience Category: | G28: Developing
B29: =B28+1 -> 151 | C29: =$C$19 -> Name of Designated Team Member:
B30: =B29+1 -> 152 | C30: =$C$20 -> Title of Designated Team Member with regard to the Proponent:
B31: =B30+1 -> 153 | C31: =$C$21 -> Designated Team Member email / phone number:
C32: Projects: | G32: Project #1 | K32: Project #2 | O32: Project #3
B33: =B31+1 -> 154 | C33: =$C$23 -> Name of onshore wind project:
B34: =B33+1 -> 155 | C34: =$C$24 -> Nameplate Capacity(MW) of onshore wind project: <enter to the nearest MW>
B35: =B34+1 -> 156 | C35: =$C$25 -> Location of onshore wind project:
B36: =B35+1 -> 157 | C36: =$C$26 -> Commercial Operation Date of onshore wind project: <enter date yyyy-mm-dd>
B37: Item | C37: Financing - Designated Team Member
B38: =B36+1 -> 158 | C38: =$C$18 -> Experience Category: | G38: Financing
B39: =B38+1 -> 159 | C39: =$C$19 -> Name of Designated Team Member:
B40: =B39+1 -> 160 | C40: =$C$20 -> Title of Designated Team Member with regard to the Proponent:
B41: =B40+1 -> 161 | C41: =$C$21 -> Designated Team Member email / phone number:
C42: Projects: | G42: Project #1 | K42: Project #2 | O42: Project #3
B43: =B41+1 -> 162 | C43: =$C$23 -> Name of onshore wind project:
B44: =B43+1 -> 163 | C44: =$C$24 -> Nameplate Capacity(MW) of onshore wind project: <enter to the nearest MW>
B45: =B44+1 -> 164 | C45: =$C$25 -> Location of onshore wind project:
B46: =B45+1 -> 165 | C46: =$C$26 -> Commercial Operation Date of onshore wind project: <enter date yyyy-mm-dd>
B47: Item | C47: Constructing - Designated Team Member
B48: =B46+1 -> 166 | C48: =$C$18 -> Experience Category: | G48: Constructing
B49: =B48+1 -> 167 | C49: =$C$19 -> Name of Designated Team Member:
B50: =B49+1 -> 168 | C50: =$C$20 -> Title of Designated Team Member with regard to the Proponent:
B51: =B50+1 -> 169 | C51: =$C$21 -> Designated Team Member email / phone number:
C52: Projects: | G52: Project #1 | K52: Project #2 | O52: Project #3
B53: =B51+1 -> 170 | C53: =$C$23 -> Name of onshore wind project:
B54: =B53+1 -> 171 | C54: =$C$24 -> Nameplate Capacity(MW) of onshore wind project: <enter to the nearest MW>
B55: =B54+1 -> 172 | C55: =$C$25 -> Location of onshore wind project:
B56: =B55+1 -> 173 | C56: =$C$26 -> Commercial Operation Date of onshore wind project: <enter date yyyy-mm-dd>
B57: Item | C57: Operating - Designated Team Member
B58: =B56+1 -> 174 | C58: =$C$18 -> Experience Category: | G58: Operating
B59: =B58+1 -> 175 | C59: =$C$19 -> Name of Designated Team Member:
B60: =B59+1 -> 176 | C60: =$C$20 -> Title of Designated Team Member with regard to the Proponent:
B61: =B60+1 -> 177 | C61: =$C$21 -> Designated Team Member email / phone number:
B62: Projects: | C62: Projects: | G62: Project #1 | K62: Project #2 | O62: Project #3
B63: =B61+1 -> 178 | C63: =$C$23 -> Name of onshore wind project:
B64: =B63+1 -> 179 | C64: =$C$24 -> Nameplate Capacity(MW) of onshore wind project: <enter to the nearest MW>
B65: =B64+1 -> 180 | C65: =$C$25 -> Location of onshore wind project:
B66: =B65+1 -> 181 | C66: =$C$26 -> Commercial Operation Date of onshore wind project: <enter date yyyy-mm-dd>
B68: Scored Criteria 2: Experience with respect to a Renewable Low-Impact Electricity Generation Facility that has achieved commercial operation in Nova Scotia no more than fifteen (15) years prior to the Proposal Submission Deadline.
B69: Item | C69: Planning - Designated Team Member
B70: =B66+1 -> 182 | C70: =$C$18 -> Experience Category: | G70: Planning
B71: =B70+1 -> 183 | C71: =$C$19 -> Name of Designated Team Member:
B72: =B71+1 -> 184 | C72: =$C$20 -> Title of Designated Team Member with regard to the Proponent:
B73: =B72+1 -> 185 | C73: =$C$21 -> Designated Team Member email / phone number:
B74: =B73+1 -> 186 | C74: Name of Renewable Low-Impact Electricity Generation Facility:
B75: =B74+1 -> 187 | C75: Nameplate Capacity (MW) of Renewable Low-Impact Electricity Generation Facility: <enter to the nearest MW>
B76: =B75+1 -> 188 | C76: Location of Renewable Low-Impact Electricity Generation Facility:
B77: =B76+1 -> 189 | C77: Commercial operation date of Renewable Low-Impact Electricity Generation Facility: <enter date yyyy-mm-dd>
B78: Item | C78: Developing - Designated Team Member
B79: =B77+1 -> 190 | C79: =$C$18 -> Experience Category: | G79: Developing
B80: =B79+1 -> 191 | C80: =$C$19 -> Name of Designated Team Member:
B81: =B80+1 -> 192 | C81: =$C$20 -> Title of Designated Team Member with regard to the Proponent:
B82: =B81+1 -> 193 | C82: =$C$21 -> Designated Team Member email / phone number:
B83: =B82+1 -> 194 | C83: =$C$74 -> Name of Renewable Low-Impact Electricity Generation Facility:
B84: =B83+1 -> 195 | C84: =$C$75 -> Nameplate Capacity (MW) of Renewable Low-Impact Electricity Generation Facility: <enter to the nearest MW>
B85: =B84+1 -> 196 | C85: =$C$76 -> Location of Renewable Low-Impact Electricity Generation Facility:
B86: =B85+1 -> 197 | C86: =$C$77 -> Commercial operation date of Renewable Low-Impact Electricity Generation Facility: <enter date yyyy-mm-dd>
B87: Item | C87: Financing - Designated Team Member
B88: =B86+1 -> 198 | C88: =$C$18 -> Experience Category: | G88: Financing
B89: =B88+1 -> 199 | C89: =$C$19 -> Name of Designated Team Member:
B90: =B89+1 -> 200 | C90: =$C$20 -> Title of Designated Team Member with regard to the Proponent:
B91: =B90+1 -> 201 | C91: =$C$21 -> Designated Team Member email / phone number:
B92: =B91+1 -> 202 | C92: =$C$74 -> Name of Renewable Low-Impact Electricity Generation Facility:
B93: =B92+1 -> 203 | C93: =$C$75 -> Nameplate Capacity (MW) of Renewable Low-Impact Electricity Generation Facility: <enter to the nearest MW>
B94: =B93+1 -> 204 | C94: =$C$76 -> Location of Renewable Low-Impact Electricity Generation Facility:
B95: =B94+1 -> 205 | C95: =$C$77 -> Commercial operation date of Renewable Low-Impact Electricity Generation Facility: <enter date yyyy-mm-dd>
B96: Item | C96: Constructing - Designated Team Member
B97: =B95+1 -> 206 | C97: =$C$18 -> Experience Category: | G97: Constructing
B98: =B97+1 -> 207 | C98: =$C$19 -> Name of Designated Team Member:
B99: =B98+1 -> 208 | C99: =$C$20 -> Title of Designated Team Member with regard to the Proponent:
B100: =B99+1 -> 209 | C100: =$C$21 -> Designated Team Member email / phone number:
B101: =B100+1 -> 210 | C101: =$C$74 -> Name of Renewable Low-Impact Electricity Generation Facility:
B102: =B101+1 -> 211 | C102: =$C$75 -> Nameplate Capacity (MW) of Renewable Low-Impact Electricity Generation Facility: <enter to the nearest MW>
B103: =B102+1 -> 212 | C103: =$C$76 -> Location of Renewable Low-Impact Electricity Generation Facility:
B104: =B103+1 -> 213 | C104: =$C$77 -> Commercial operation date of Renewable Low-Impact Electricity Generation Facility: <enter date yyyy-mm-dd>
B105: Item | C105: Operating - Designated Team Member
...

Sheet Approvals and Permits Matrix
B1: Nova Scotia Green Choice Program Procurement | N1: ='Proponent Information'!H1 -> GCP_PFPWv1.0.xlsx
B3: GCP RFP II Proposal Workbook - Approvals and Permits Matrix Worksheet (Mandatory)
B4: Instructions:
B5: (i) All green fields should be completed for each anticipated regulatory approval / permit identified. Green fields to enter approvals/permits are activated, as needed, by selecting "Yes" from the dropdown menu in the "Enter Another Approval/ Permit" column.
B6: (ii) Row heights can be resized if more space is required to view input text.
B7: (iii) Under the Anticipated Regulatory Approvals and Permits column, enter any anticipated approvals and permits required to develop, construct, and operate the Project.
B8: (iv) Under the Permit Type column, enter the jurisdiction of the issuing authority for each anticipated approval and permit, i.e., a federal, provincial, or municipal government or agency.
B9: (v) Under the Status and Path to Completion column, describe the application status of each anticipated approval or permit, the actions the Proponent has taken at the time of submitting the Proposal, the anticipated date of approval / permit, and the outstanding actions required to obtain the approval or permit.
B11: (vi) Under the Preliminary Discussions column, describe what conversations have taken place with the appropriate departments of Nova Scotia regarding the corresponding required approval or permit, identifying the individual(s) the Proponent has been in discussions with and the timeframe over which these discussions have taken place. At a minimum, the Proponent must demonstrate they have contacted the appropriate departments of Nova Scotia by December 31, 2026 to engage in preliminary discussions.
AC14: limited partnership
B15: Item | C15: Project ID and Name | H15: Proponent Information | AC15: other
B16: 1 | C16: Unique Project ID: | H16: =IF('Proponent Information'!$G$11="","",'Proponent Information'!$G$11)
B17: 2 | C17: Name of Renewable Low-Impact Electricity Project: | H17: =IF('Proponent Information'!$G$12="","",'Proponent Information'!$G$12)
B19: Item | C19: Enter Another Approval / Permit | D19: Anticipated Regulatory Approval / Permit | F19: Permit Type | H19: Status and Path to Completion | M19: Prelminary Discussions
B20: ='Scored Team Member Experience'!B113+1 -> 222
B21: =B20+1 -> 223
B22: =B21+1 -> 224
B23: =B22+1 -> 225
B24: =B23+1 -> 226
B25: =B24+1 -> 227
B26: =B25+1 -> 228
B27: =B26+1 -> 229
B28: =B27+1 -> 230
B29: =B28+1 -> 231
B30: =B29+1 -> 232
B31: =B30+1 -> 233
B32: =B31+1 -> 234
... B39: =B38+1 -> 241
B42: Yes
B43: No

Sheet Scored Criteria 
B1: ='Proponent Information'!$B$1 -> Nova Scotia Green Choice Program Procurement | H1: ='Proponent Information'!$H$1 -> GCP_PFPWv1.0.xlsx
B3: GCP RFP II Proposal Workbook - Scored Criteria (Optional)
B4: Instructions:
B5: (i) To confirm which Scored Criteria the Proponent is seeking to attain Scored Criteria points for, Proponents should select "Yes" or "No", as applicable, in the green box next to the individual Scored Criteria category.
B8: Item | C8: Project ID and Name | G8: Proponent Information
B9: 1 | C9: Unique Project ID: | G9: =IF('Proponent Information'!$G$11="","",'Proponent Information'!$G$11)
B10: 2 | C10: Name of Renewable Low-Impact Electricity Project: | G10: =IF('Proponent Information'!$G$12="","",'Proponent Information'!$G$12)
B12: Item | C12: Scored Criteria
B13: ='Approvals and Permits Matrix'!B39+1 -> 242 | C13: Energy Rate (points awarded based on Energy Rate submitted in the Prescribed Form: Proposal Workbook in the Project Information worksheet) | G13: Yes
B14: =B13+1 -> 243 | C14: Project Risk and Maturity - Resource Assessment (points awarded based on resource assessment report submitted in Prescribed Form: Proponent Information, Declarations, and Workbook)
B15: =B14+1 -> 244 | C15: Project Risk and Maturity - Financing Plan (points awarded based on information provided in Prescribed Form: Financing)
B16: =B15+1 -> 245 | C16: Project Risk and Maturity - Experience (points awarded based on information provided in Prescribed Form: Proposal Workbook in the Scored Team Member Experience worksheet)
B17: =B16+1 -> 246 | C17: Project Risk and Maturity - Environmental Risk (points awarded based on information provided in the Prescribed Form: Environmental Risk) | G17: Yes
B18: =B17+1 -> 247 | C18: Project Site (points awarded based on information provided in the Prescribed Form: Access Rights and Project Site and the transportation and logistics plan submitted in the Prescribed Form: Proponent Information, Declarations, and Workbook )
B19: =B18+1 -> 248 | C19: Engagement (points awarded based on information provided in the Prescribed Form: Engagement)
B20: =B19+1 -> 249 | C20: Social and Economic Benefits - Ownership (points awarded based on information provided in the Prescribed Form: Social and Economic Benefits)
B21: =B20+1 -> 250 | C21: Social and Economic Benefits - Social Programs (points awarded based on information provided in the Prescribed Form: Social and Economic Benefits)
B22: =B21+1 -> 251 | C22: Social and Economic Benefits - Economic Benefits (points awarded based on information provided in the Prescribed Form: Social and Economic Benefits)
C91: Yes
C92: No
